BEGIN:VCALENDAR
VERSION:2.0
PRODID:-//Squarespace Inc/Squarespace 6//v6//EN
BEGIN:VEVENT
UID:5e4d006884e2995250d3d6d7@squarespace.com
DTSTAMP:20210225T053802Z
DTSTART:20210317T163000Z
DTEND:20210317T180000Z
SUMMARY:International Day for the Elimination of Racial Discrimination Lunc
 h 
GEO:-35.284932;149.123907
LOCATION:Parlour\, 16 Kendall Lane\, New Acton\, 2601
END:VEVENT
END:VCALENDAR
