BEGIN:VCALENDAR
VERSION:2.0
PRODID:-//Squarespace Inc/Squarespace 6//v6//EN
BEGIN:VEVENT
UID:5abc1eaa0e2e72e0babe4f91@squarespace.com
DTSTAMP:20180515T005226Z
DTSTART:20180516T223000Z
DTEND:20180517T030000Z
SUMMARY:Law Week Dinner with Virginia Haussegger
GEO:-35.303778;149.151588
LOCATION:The Boat House\, Grevillea Park\, Menindee Dr\, Canberra\, Austral
 ia
END:VEVENT
END:VCALENDAR
