BEGIN:VCALENDAR
VERSION:2.0
PRODID:-//Squarespace Inc/Squarespace 6//v6//EN
BEGIN:VEVENT
UID:5a949ffcec212dee07743f97@squarespace.com
DTSTAMP:20180301T005836Z
DTSTART:20180314T213000Z
DTEND:20180314T230000Z
SUMMARY:International Womens Day - Press for Progress Panel
GEO:-35.284925;149.122924
LOCATION:Clayton Utz\, Level 10\, New Acton Nishi\, Canberra ACT 2601
END:VEVENT
END:VCALENDAR
