BEGIN:VCALENDAR
VERSION:2.0
PRODID:-//Squarespace Inc/Squarespace 6//v6//EN
BEGIN:VEVENT
UID:5a52b86d0852298a1237e930@squarespace.com
DTSTAMP:20180118T011520Z
DTSTART:20180213T123000Z
DTEND:20180213T134500Z
SUMMARY:Mentor Breakfast with the Honourable Associate Justice McWilliam
GEO:-35.285124;149.123102
LOCATION:Hotel Hotel\, 25 Edinburgh Avenue\, Canberra\, ACT\, 2601\, Austra
 lia
END:VEVENT
END:VCALENDAR
