BEGIN:VCALENDAR
VERSION:2.0
PRODID:-//Squarespace Inc/Squarespace 6//v6//EN
BEGIN:VEVENT
UID:596cae6b725e25db3a89aefb@squarespace.com
DTSTAMP:20170811T061215Z
DTSTART:20170905T113000Z
DTEND:20170905T124500Z
SUMMARY:Mentor Breakfast with Jennifer Wyborn - 'The Illusion of Perfection
 '
GEO:-35.283814;149.125613
LOCATION:Exhibition Room\, QT Hotel Canberra\, 1 London Circuit\, Canberra 
 ACT
END:VEVENT
END:VCALENDAR
