BEGIN:VCALENDAR
VERSION:2.0
PRODID:-//Squarespace Inc/Squarespace 6//v6//EN
BEGIN:VEVENT
UID:596cab2bb3db2bfde4317876@squarespace.com
DTSTAMP:20170829T063725Z
DTSTART:20170920T213000Z
DTEND:20170920T223000Z
SUMMARY:WLA ACT Annual General Meeting
GEO:-35.280799;149.124814
LOCATION:ACT Law Society Training Room\, 1 Farrell Place\, Canberra\, Austr
 alia
END:VEVENT
END:VCALENDAR
