BEGIN:VCALENDAR
VERSION:2.0
PRODID:-//Squarespace Inc/Squarespace 6//v6//EN
BEGIN:VEVENT
UID:596c47c9f9a61e3111d95fd0@squarespace.com
DTSTAMP:20170825T055704Z
DTSTART:20170915T233000Z
DTEND:20170916T033000Z
SUMMARY:Australian Women Lawyers 20th Birthday Dinner
GEO:-37.814812;144.966508
LOCATION:Melbourne Town Hall\, 90-130 Swanston Street\, Melbourne\, VIC\, 3
 000\, Australia
END:VEVENT
END:VCALENDAR
