BEGIN:VCALENDAR
VERSION:2.0
PRODID:-//Squarespace Inc/Squarespace 6//v6//EN
BEGIN:VEVENT
UID:596ddfe8e6f2e1f4899fd1fa@squarespace.com
DTSTAMP:20170809T013226Z
DTSTART:20170823T163000Z
DTEND:20170823T180000Z
SUMMARY:Panel Event: Juggling Career and Family\, and Making Time for Self 
 Care
GEO:-35.280799;149.124814
LOCATION:Blackburn Training Room\, ACT Law Society\, Level 4\, 1 Farrell Pl
 ace\, Canberra\, Australia
END:VEVENT
END:VCALENDAR
