BEGIN:VCALENDAR
VERSION:2.0
PRODID:-//Squarespace Inc/Squarespace 6//v6//EN
BEGIN:VEVENT
UID:59771127a5790a133c104d1c@squarespace.com
DTSTAMP:20170727T003355Z
DTSTART:20170816T163000Z
DTEND:20170816T180000Z
SUMMARY:Judicial Mentoring Lunch
GEO:-35.28207;149.124705
LOCATION:King & Wood Mallesons\, Lv 5 Nicta Building\, 7 London Circuit\, C
 anberra
END:VEVENT
END:VCALENDAR
