BEGIN:VCALENDAR
VERSION:2.0
PRODID:-//Squarespace Inc/Squarespace 6//v6//EN
BEGIN:VEVENT
UID:59199dc5f5e2317b6a3fd2d6@squarespace.com
DTSTAMP:20170522T033750Z
DTSTART:20170607T213000Z
DTEND:20170607T230000Z
SUMMARY:Come to the Bar
GEO:-35.279746;149.126197
LOCATION:Blackburn Chambers\, Level 12\, AMP Building\, 1 Hobart Place\, Ca
 nberra\, Australia
END:VEVENT
END:VCALENDAR
