BEGIN:VCALENDAR
VERSION:2.0
PRODID:-//Squarespace Inc/Squarespace 6//v6//EN
BEGIN:VEVENT
UID:58eac0fac534a5cb83a7c6d2@squarespace.com
DTSTAMP:20170411T234035Z
DTSTART:20170506T170000Z
DTEND:20170506T190000Z
SUMMARY:Voice Coach Workshop - Lucy Cornell
GEO:-35.280415;149.127379
LOCATION:ACT Supreme Court\, 6 Knowles Place\, Canberra\, ACT\, 2601\, Aust
 ralia
END:VEVENT
END:VCALENDAR
