BEGIN:VCALENDAR
VERSION:2.0
PRODID:-//Squarespace Inc/Squarespace 6//v6//EN
BEGIN:VEVENT
UID:58e2e3c859cc689fc7b43aa2@squarespace.com
DTSTAMP:20170502T123434Z
DTSTART:20170503T203000Z
DTEND:20170503T220000Z
SUMMARY:General Counsel Q&A
GEO:-35.284925;149.122924
LOCATION:Clayton Utz\, Level 10\, New Acton Nishi Building\, 2 Phillip Law 
 Street\, New Acton\, Canberra
END:VEVENT
END:VCALENDAR
