BEGIN:VCALENDAR
VERSION:2.0
PRODID:-//Squarespace Inc/Squarespace 6//v6//EN
BEGIN:VEVENT
UID:58e2ea4cb3db2b46d45b7142@squarespace.com
DTSTAMP:20170424T001121Z
DTSTART:20170517T223000Z
DTEND:20170518T030000Z
SUMMARY:ACT Law Week Dinner - Clementine Ford
GEO:-35.290311;149.131379
LOCATION:The Deck\, Regatta Point\, Barrine Drive\, Parkes\, Canberra
END:VEVENT
END:VCALENDAR
