BEGIN:VCALENDAR
VERSION:2.0
PRODID:-//Squarespace Inc/Squarespace 6//v6//EN
BEGIN:VEVENT
UID:58cf251edb29d633eb74516f@squarespace.com
DTSTAMP:20170403T005751Z
DTSTART:20170411T213000Z
DTEND:20170411T223000Z
SUMMARY:Speak Up: How to lead when it matters most - A seminar by Zoë Routh
GEO:-35.280799;149.124814
LOCATION:Law Society of the ACT\, Seminar Room\, 1 Farrell Place\, Canberra
 \, ACT\, 2601\, Australia
END:VEVENT
END:VCALENDAR
