BEGIN:VCALENDAR
VERSION:2.0
PRODID:-//Squarespace Inc/Squarespace 6//v6//EN
BEGIN:VEVENT
UID:58aa3faae3df28bbc87258d9@squarespace.com
DTSTAMP:20170306T023708Z
DTSTART:20170309T220000Z
DTEND:20170310T000000Z
SUMMARY:International Women's Day Event - Snapshots of the Australian Legal 
 System and Victims of Family Violence\, sponsored by Farrar Gesini Dunn
GEO:-35.276427;149.125626
LOCATION:ANU Commons\, 3 Rimmer Street\, Acton\, ACT\, 2601\, Australia
END:VEVENT
END:VCALENDAR
