BEGIN:VCALENDAR
VERSION:2.0
PRODID:-//Squarespace Inc/Squarespace 6//v6//EN
BEGIN:VEVENT
UID:59daa70bf6576ed92f17c737@squarespace.com
DTSTAMP:20171102T094539Z
DTSTART:20171108T223000Z
DTEND:20171109T000000Z
SUMMARY:MLC Seminar: How to buy your first home – then pay that loan off!
GEO:-35.277895;149.125642
LOCATION:Meyer Vanderberg Lawyers\, Level 2\, 121 Marcus Clarke Street\, Ca
 nberra City ACT 2601\, Australia
END:VEVENT
END:VCALENDAR
