BEGIN:VCALENDAR
VERSION:2.0
PRODID:-//Squarespace Inc/Squarespace 6//v6//EN
BEGIN:VEVENT
UID:5a0e19d49140b7746420a8c1@squarespace.com
DTSTAMP:20171117T025826Z
DTSTART:20171130T230000Z
DTEND:20171201T010000Z
SUMMARY:End of Year Drinks
GEO:-35.278536;149.12868
LOCATION:Highball Express\, 82 Alinga Street\, Canberra\, ACT\, 2601\, Aust
 ralia
END:VEVENT
END:VCALENDAR
