BEGIN:VCALENDAR
VERSION:2.0
PRODID:-//Squarespace Inc/Squarespace 6//v6//EN
BEGIN:VEVENT
UID:598a4a2ea803bb87a9fe7a5d@squarespace.com
DTSTAMP:20171016T045624Z
DTSTART:20171020T113000Z
DTEND:20171020T130000Z
SUMMARY:Mentor Breakfast with The Hon Linda Burney MP
GEO:-35.301679;149.130215
LOCATION:Old Parliament House (Members Dining Room 3)\, 18 King George Terr
 ace\, Parkes ACT
END:VEVENT
END:VCALENDAR
