BEGIN:VCALENDAR
VERSION:2.0
PRODID:-//Squarespace Inc/Squarespace 6//v6//EN
BEGIN:VEVENT
UID:588a61e76a49631d9115970c@squarespace.com
DTSTAMP:20170213T052905Z
DTSTART:20170215T124500Z
DTEND:20170215T134500Z
SUMMARY:Mentor Breakfast with Noor Blumer
GEO:-35.311885;149.133177
LOCATION:Hotel Realm\, 18 National Circuit\, Barton\, ACT\, 2600\, Australi
 a
END:VEVENT
END:VCALENDAR
