BEGIN:VCALENDAR
VERSION:2.0
PRODID:-//Squarespace Inc/Squarespace 6//v6//EN
BEGIN:VEVENT
UID:57bf8ca503596e3a2ae7a2de@squarespace.com
DTSTAMP:20160908T110615Z
DTSTART:20160915T170000Z
DTEND:20160915T180000Z
SUMMARY:Judicial Mentoring Lunch
GEO:-35.281743;149.12492
LOCATION:King & Wood Mallesons\, Level 5\, NICTA Building\, 7 London Circui
 t\, Canberra
END:VEVENT
END:VCALENDAR
