BEGIN:VCALENDAR
VERSION:2.0
PRODID:-//Squarespace Inc/Squarespace 6//v6//EN
BEGIN:VEVENT
UID:578ebae0c534a5c08c42d383@squarespace.com
DTSTAMP:20160826T002535Z
DTSTART:20160811T163000Z
DTEND:20160811T180000Z
SUMMARY:Partner Forum
GEO:40.720756;-74.000761
LOCATION:Clayton Utz\, Level 10\, New Acton Nishi
END:VEVENT
END:VCALENDAR
