BEGIN:VCALENDAR
VERSION:2.0
PRODID:-//Squarespace Inc/Squarespace 6//v6//EN
BEGIN:VEVENT
UID:57561d492b8ddeefcfa7a915@squarespace.com
DTSTAMP:20160609T025649Z
DTSTART:20160623T213000Z
DTEND:20160623T230000Z
SUMMARY:'Your Career and Finances' - MLC Advice Seminar
GEO:-35.280803;149.124814
LOCATION:ACT Law Society\, Blackburn Room\, Level 4\, 1 Farrell Place\, Can
 berra
END:VEVENT
END:VCALENDAR
