BEGIN:VCALENDAR
VERSION:2.0
PRODID:-//Squarespace Inc/Squarespace 6//v6//EN
BEGIN:VEVENT
UID:5752da872eeb81f8db2953cf@squarespace.com
DTSTAMP:20160607T021947Z
DTSTART:20160621T133000Z
DTEND:20160621T210000Z
SUMMARY:Working Mothers Workshop
GEO:-35.280803;149.124814
LOCATION:ACT Law Society\, Level 4\, 1 Farrell Place\, Canberra City\, Aust
 ralia
END:VEVENT
END:VCALENDAR
