BEGIN:VCALENDAR
VERSION:2.0
PRODID:-//Squarespace Inc/Squarespace 6//v6//EN
BEGIN:VEVENT
UID:5725c610c6fc08d72017a1f7@squarespace.com
DTSTAMP:20160503T080312Z
DTSTART:20160518T223000Z
DTEND:20160520T023000Z
SUMMARY:Law Week Dinner
GEO:-35.302834;149.149552
LOCATION:The Boat House by the Lake\, Menindee Drive\, Barton\, Canberra AC
 T 2600
END:VEVENT
END:VCALENDAR
