BEGIN:VCALENDAR
VERSION:2.0
PRODID:-//Squarespace Inc/Squarespace 6//v6//EN
BEGIN:VEVENT
UID:56ce62aa27d4bdce2515b6ad@squarespace.com
DTSTAMP:20160301T131107Z
DTSTART:20160311T223000Z
DTEND:20160312T000000Z
SUMMARY:Book Launch
GEO:-35.278708;149.125214
LOCATION:Legal Aid ACT\, 2 Allsop Street\, Canberra\, ACT\, 2601\, Australi
 a
END:VEVENT
END:VCALENDAR
