BEGIN:VCALENDAR
VERSION:2.0
PRODID:-//Squarespace Inc/Squarespace 6//v6//EN
BEGIN:VEVENT
UID:583c1b87893fc0a390d2d0b5@squarespace.com
DTSTAMP:20161128T121620Z
DTSTART:20161129T120000Z
DTEND:20161229T130000Z
SUMMARY:Register your interest in a Voice Coach Workshop for Lawyers
END:VEVENT
END:VCALENDAR
