BEGIN:VCALENDAR
VERSION:2.0
PRODID:-//Squarespace Inc/Squarespace 6//v6//EN
BEGIN:VEVENT
UID:583239c7bebafb6e0f5fa73a@squarespace.com
DTSTAMP:20161121T001526Z
DTSTART:20161129T223000Z
DTEND:20161130T000000Z
SUMMARY:Launch of Junior Lawyers Pay & Conditions Survey Report
GEO:-35.312972;149.130996
LOCATION:Minter Ellison\, 3 / 25 National Circuit\, Forrest\, ACT\, 2603\, 
 Australia
END:VEVENT
END:VCALENDAR
