BEGIN:VCALENDAR
VERSION:2.0
PRODID:-//Squarespace Inc/Squarespace 6//v6//EN
BEGIN:VEVENT
UID:57ef181ad2b8571a3ccbe990@squarespace.com
DTSTAMP:20161004T110530Z
DTSTART:20161011T210000Z
DTEND:20161011T220000Z
SUMMARY:Gender Equality Among Barristers Before the High Court: A Seminar b
 y UNSW Professor George Williams AO
GEO:-35.280952;149.119416
LOCATION:Staff Library\, ANU College of Law\, 5 Fellows Road\, Acton\, ACT\
 , 2601\, Australia
END:VEVENT
END:VCALENDAR
