BEGIN:VCALENDAR
VERSION:2.0
PRODID:-//Squarespace Inc/Squarespace 6//v6//EN
BEGIN:VEVENT
UID:56a9e6857086d70fdc3d46e4@squarespace.com
DTSTAMP:20160414T101321Z
DTSTART:20160510T113000Z
DTEND:20160510T123000Z
SUMMARY:Mentor Breakfast
GEO:-35.299336;149.124304
LOCATION:Assembly Room\, Hyatt Hotel\, 120 Commonwealth Avenue\, Yarralumla
 \, ACT\, 2600\, Australia
END:VEVENT
END:VCALENDAR
