BEGIN:VCALENDAR
VERSION:2.0
PRODID:-//Squarespace Inc/Squarespace 6//v6//EN
BEGIN:VEVENT
UID:56a8b96989a60af1f5cdf1bd@squarespace.com
DTSTAMP:20160129T013541Z
DTSTART:20160220T153000Z
DTEND:20160220T183000Z
SUMMARY:Family Day & High Tea
GEO:-35.280343;149.127452
LOCATION:ACT Supreme Court (then Parlour Wine Room)\, 6 Knowles Place\, Can
 berra\, ACT\, 2601\, Australia
END:VEVENT
END:VCALENDAR
