BEGIN:VCALENDAR
VERSION:2.0
PRODID:-//Squarespace Inc/Squarespace 6//v6//EN
BEGIN:VEVENT
UID:5d6261d64a77580001a89516@squarespace.com
DTSTAMP:20191008T102256Z
DTSTART:20161129T173000Z
DTEND:20161129T183000Z
SUMMARY:Launch of the Junior Lawyers Pay and Conditions Survey Report
GEO:-35.280937;149.130009
LOCATION:Minter Ellison\, Canberra
END:VEVENT
END:VCALENDAR
