BEGIN:VCALENDAR
VERSION:2.0
PRODID:-//Squarespace Inc/Squarespace 6//v6//EN
BEGIN:VEVENT
UID:5d62616ab32bec000141f1c0@squarespace.com
DTSTAMP:20191008T102450Z
DTSTART:20160818T160000Z
DTEND:20160818T170000Z
SUMMARY:Partner Forum
GEO:-35.280937;149.130009
LOCATION:Clayton Utz\, Canberra
END:VEVENT
END:VCALENDAR
