BEGIN:VCALENDAR
VERSION:2.0
PRODID:-//Squarespace Inc/Squarespace 6//v6//EN
BEGIN:VEVENT
UID:5d62626f543723000165a82c@squarespace.com
DTSTAMP:20191008T102043Z
DTSTART:20170217T173000Z
DTEND:20170217T183000Z
SUMMARY:Mentor Breakfast - Noor Blumer
GEO:-35.311881;149.132978
LOCATION:Hotel Realm
END:VEVENT
END:VCALENDAR
