BEGIN:VCALENDAR
VERSION:2.0
PRODID:-//Squarespace Inc/Squarespace 6//v6//EN
BEGIN:VEVENT
UID:5d6260a5371e850001bdab66@squarespace.com
DTSTAMP:20191008T102720Z
DTSTART:20160510T163000Z
DTEND:20160510T173000Z
SUMMARY:Mentor Breakfast - Katrina Cooper
GEO:36.154303;-95.991177
LOCATION:Hyatt Hotel
END:VEVENT
END:VCALENDAR
