BEGIN:VCALENDAR
VERSION:2.0
PRODID:-//Squarespace Inc/Squarespace 6//v6//EN
BEGIN:VEVENT
UID:5d62610d30af730001c89cea@squarespace.com
DTSTAMP:20191008T102616Z
DTSTART:20160518T220000Z
DTEND:20160519T020000Z
SUMMARY:Law Week Dinner - 2016
GEO:40.720756;-74.000761
LOCATION:The Boat House
END:VEVENT
END:VCALENDAR
