BEGIN:VCALENDAR
VERSION:2.0
PRODID:-//Squarespace Inc/Squarespace 6//v6//EN
BEGIN:VEVENT
UID:5d60f3768496cb000132f3bb@squarespace.com
DTSTAMP:20191008T103122Z
DTSTART:20151124T173000Z
DTEND:20151124T183000Z
SUMMARY:WLA ACT Junior Lawyers Pay and Conditions Survey
GEO:44.862292;-74.252093
LOCATION:As You Like It Café
END:VEVENT
END:VCALENDAR
