BEGIN:VCALENDAR
VERSION:2.0
PRODID:-//Squarespace Inc/Squarespace 6//v6//EN
BEGIN:VEVENT
UID:5d621086b32bec000140006b@squarespace.com
DTSTAMP:20191008T103052Z
DTSTART:20160220T150000Z
DTEND:20160220T170000Z
SUMMARY:Family Day and High Tea
GEO:-35.280944;149.127098
LOCATION:Supreme Court of the ACT
END:VEVENT
END:VCALENDAR
