BEGIN:VCALENDAR
VERSION:2.0
PRODID:-//Squarespace Inc/Squarespace 6//v6//EN
BEGIN:VEVENT
UID:5d62138043bb1d0001b81e39@squarespace.com
DTSTAMP:20191008T102906Z
DTSTART:20160311T170000Z
DTEND:20160311T180000Z
SUMMARY:Book Launch - 'Whispers from the Bush'
GEO:35.083705;-106.65082
LOCATION:Legal Aid ACT
END:VEVENT
END:VCALENDAR
