BEGIN:VCALENDAR
VERSION:2.0
PRODID:-//Squarespace Inc/Squarespace 6//v6//EN
BEGIN:VEVENT
UID:5d62641f371e850001bdc4e8@squarespace.com
DTSTAMP:20191008T101009Z
DTSTART:20170517T223000Z
DTEND:20170518T023000Z
SUMMARY:ACT Law Week Dinner with Clementine Ford - 2017
GEO:-35.290311;149.131379
LOCATION:The Deck at Regatta Point
END:VEVENT
END:VCALENDAR
