BEGIN:VCALENDAR
VERSION:2.0
PRODID:-//Squarespace Inc/Squarespace 6//v6//EN
BEGIN:VEVENT
UID:5d62648b199ab6000160d3e3@squarespace.com
DTSTAMP:20191008T100856Z
DTSTART:20170607T220000Z
DTEND:20170607T230000Z
SUMMARY:Come to the Bar Information Evening
GEO:40.720756;-74.000761
LOCATION:Blackburn Chambers
END:VEVENT
END:VCALENDAR
