BEGIN:VCALENDAR
VERSION:2.0
PRODID:-//Squarespace Inc/Squarespace 6//v6//EN
BEGIN:VEVENT
UID:5d6263d8d804630001345a77@squarespace.com
DTSTAMP:20191008T101234Z
DTSTART:20170506T160000Z
DTEND:20170506T170000Z
SUMMARY:Voice Coach Workshop with Lucy Cornell
GEO:-35.280944;149.127098
LOCATION:ACT Supreme Court\, Canberra
END:VEVENT
END:VCALENDAR
