BEGIN:VCALENDAR
VERSION:2.0
PRODID:-//Squarespace Inc/Squarespace 6//v6//EN
BEGIN:VEVENT
UID:5d62637bd6e6e500017e970d@squarespace.com
DTSTAMP:20191008T101433Z
DTSTART:20170503T160000Z
DTEND:20170503T170000Z
SUMMARY:General Counsel Q&amp\;A
GEO:38.637409;-90.336875
LOCATION:Clayton Utz
END:VEVENT
END:VCALENDAR
