BEGIN:VCALENDAR
VERSION:2.0
PRODID:-//Squarespace Inc/Squarespace 6//v6//EN
BEGIN:VEVENT
UID:5d626335d804630001345615@squarespace.com
DTSTAMP:20191008T101601Z
DTSTART:20170411T160000Z
DTEND:20170411T170000Z
SUMMARY:Speak up: How To Lead When It Matters Most
GEO:43.652027;-79.385756
LOCATION:ACT Law Society
END:VEVENT
END:VCALENDAR
