BEGIN:VCALENDAR
VERSION:2.0
PRODID:-//Squarespace Inc/Squarespace 6//v6//EN
BEGIN:VEVENT
UID:5d6262f231149d0001586542@squarespace.com
DTSTAMP:20191008T102118Z
DTSTART:20170309T173000Z
DTEND:20170309T183000Z
SUMMARY:International Women's Day Event - Professor Patricia Easteal AM Add
 ress
GEO:-35.2777;149.118527
LOCATION:ANU Commons
END:VEVENT
END:VCALENDAR
